BEGIN:VCALENDAR
VERSION:2.0
PRODID:-//Now in Saudi//events//EN
CALSCALE:GREGORIAN
METHOD:PUBLISH
BEGIN:VEVENT
UID:f5da2cf6-6c9f-415d-b1e9-00ebc3975047@nowinsaudi.com
DTSTAMP:20260419T174712Z
DTSTART:20260402T130000Z
DTEND:20260430T190000Z
SUMMARY:Art Day Celebrations - April Programming
LOCATION:Prince Faisal bin Fahd Arts Hall
DESCRIPTION:Art Day Celebrations - April Programming\\nVenue: Prince Faisal bin Fahd Arts Hall\\nDetails: https://happening-saudi.pages.dev/events/f5da2cf6-6c9f-415d-b1e9-00ebc3975047
URL:https://happening-saudi.pages.dev/events/f5da2cf6-6c9f-415d-b1e9-00ebc3975047
END:VEVENT
END:VCALENDAR