BEGIN:VCALENDAR
VERSION:2.0
PRODID:-//Now in Saudi//events//EN
CALSCALE:GREGORIAN
METHOD:PUBLISH
BEGIN:VEVENT
UID:f2b791af-8377-47f7-942b-8a627a4558a0@nowinsaudi.com
DTSTAMP:20260420T135154Z
DTSTART:20260508T170000Z
DTEND:20260508T190000Z
SUMMARY:Boosh Bashasha - Stand-up Comedy Show
LOCATION:النادي الأدبي بالرياض
DESCRIPTION:Boosh Bashasha - Stand-up Comedy Show\\nVenue: النادي الأدبي بالرياض\\nDetails: https://happening-saudi.pages.dev/events/f2b791af-8377-47f7-942b-8a627a4558a0
URL:https://happening-saudi.pages.dev/events/f2b791af-8377-47f7-942b-8a627a4558a0
END:VEVENT
END:VCALENDAR