BEGIN:VCALENDAR
VERSION:2.0
PRODID:-//Now in Saudi//events//EN
CALSCALE:GREGORIAN
METHOD:PUBLISH
BEGIN:VEVENT
UID:e9a14cc0-4d7a-4fd9-9871-774f4c6d2bca@nowinsaudi.com
DTSTAMP:20260419T174523Z
DTSTART:20260423T180000Z
DTEND:20260423T210000Z
SUMMARY:Marajeeh Band Live - Country & Blues Night
LOCATION:The Warehouse
DESCRIPTION:Marajeeh Band Live - Country & Blues Night\\nVenue: The Warehouse\\nDetails: https://happening-saudi.pages.dev/events/e9a14cc0-4d7a-4fd9-9871-774f4c6d2bca
URL:https://happening-saudi.pages.dev/events/e9a14cc0-4d7a-4fd9-9871-774f4c6d2bca
END:VEVENT
END:VCALENDAR