BEGIN:VCALENDAR
VERSION:2.0
PRODID:-//Now in Saudi//events//EN
CALSCALE:GREGORIAN
METHOD:PUBLISH
BEGIN:VEVENT
UID:df3601b2-8ae6-4253-9a14-e11a826a589c@nowinsaudi.com
DTSTAMP:20260419T174447Z
DTSTART:20260422T180000Z
DTEND:20260422T210000Z
SUMMARY:Warehouse Sessions
LOCATION:The Warehouse
DESCRIPTION:Warehouse Sessions\\nVenue: The Warehouse\\nDetails: https://happening-saudi.pages.dev/events/df3601b2-8ae6-4253-9a14-e11a826a589c
URL:https://happening-saudi.pages.dev/events/df3601b2-8ae6-4253-9a14-e11a826a589c
END:VEVENT
END:VCALENDAR