BEGIN:VCALENDAR
VERSION:2.0
PRODID:-//Now in Saudi//events//EN
CALSCALE:GREGORIAN
METHOD:PUBLISH
BEGIN:VEVENT
UID:d2c8e03e-6dd1-4e71-af34-433ab04cdbbc@nowinsaudi.com
DTSTAMP:20260419T174329Z
DTSTART:20260507T170000Z
DTEND:20260507T193000Z
SUMMARY:Virtual Reality - Alaa Abu Diab Comedy Show
LOCATION:Sard Cultural Center
DESCRIPTION:Virtual Reality - Alaa Abu Diab Comedy Show\\nVenue: Sard Cultural Center\\nDetails: https://happening-saudi.pages.dev/events/d2c8e03e-6dd1-4e71-af34-433ab04cdbbc
URL:https://happening-saudi.pages.dev/events/d2c8e03e-6dd1-4e71-af34-433ab04cdbbc
END:VEVENT
END:VCALENDAR