BEGIN:VCALENDAR
VERSION:2.0
PRODID:-//Now in Saudi//events//EN
CALSCALE:GREGORIAN
METHOD:PUBLISH
BEGIN:VEVENT
UID:d012e86b-e1c4-4967-9742-e8ef7499dad7@nowinsaudi.com
DTSTAMP:20260419T174329Z
DTSTART:20260421T210000Z
DTEND:20260421T210000Z
SUMMARY:Crowd Jiggs - Interactive Show with Mohammed Helmi
LOCATION:مسرح بكر الشدي — الرياض
DESCRIPTION:Crowd Jiggs - Interactive Show with Mohammed Helmi\\nVenue: مسرح بكر الشدي — الرياض\\nDetails: https://happening-saudi.pages.dev/events/d012e86b-e1c4-4967-9742-e8ef7499dad7
URL:https://happening-saudi.pages.dev/events/d012e86b-e1c4-4967-9742-e8ef7499dad7
END:VEVENT
END:VCALENDAR