BEGIN:VCALENDAR
VERSION:2.0
PRODID:-//Now in Saudi//events//EN
CALSCALE:GREGORIAN
METHOD:PUBLISH
BEGIN:VEVENT
UID:c1ccd84a-db47-4408-acd9-98f881125f5e@nowinsaudi.com
DTSTAMP:20260419T214634Z
DTSTART:20260427T130000Z
DTEND:20260430T170000Z
SUMMARY:Objects of Journey: Design Masterclass
LOCATION:JAX District\, Diriyah
DESCRIPTION:Objects of Journey: Design Masterclass\\nVenue: JAX District\, Diriyah\\nTickets: https://instagram.com/\\nDetails: https://happening-saudi.pages.dev/events/c1ccd84a-db47-4408-acd9-98f881125f5e
URL:https://happening-saudi.pages.dev/events/c1ccd84a-db47-4408-acd9-98f881125f5e
END:VEVENT
END:VCALENDAR