BEGIN:VCALENDAR
VERSION:2.0
PRODID:-//Now in Saudi//events//EN
CALSCALE:GREGORIAN
METHOD:PUBLISH
BEGIN:VEVENT
UID:bcb1667c-e2a3-452d-a089-5cd19fd56611@nowinsaudi.com
DTSTAMP:20260419T174329Z
DTSTART:20260129T210000Z
DTEND:20260502T205959Z
SUMMARY:Diriyah Contemporary Art Biennale 2026 - Gallery B5: A Forest of Echoes
LOCATION:JAX District\, Diriyah
DESCRIPTION:Diriyah Contemporary Art Biennale 2026 - Gallery B5: A Forest of Echoes\\nVenue: JAX District\, Diriyah\\nTickets: https://instagram.com/\\nDetails: https://happening-saudi.pages.dev/events/bcb1667c-e2a3-452d-a089-5cd19fd56611
URL:https://happening-saudi.pages.dev/events/bcb1667c-e2a3-452d-a089-5cd19fd56611
END:VEVENT
END:VCALENDAR