BEGIN:VCALENDAR
VERSION:2.0
PRODID:-//Now in Saudi//events//EN
CALSCALE:GREGORIAN
METHOD:PUBLISH
BEGIN:VEVENT
UID:bc934741-fff0-4f42-a95c-dabc4c36337b@nowinsaudi.com
DTSTAMP:20260419T174446Z
DTSTART:20260329T210000Z
DTEND:20260430T205959Z
SUMMARY:Aquarebia Water Park Opening
LOCATION:Aquarebia\, Qiddiya
DESCRIPTION:Aquarebia Water Park Opening\\nVenue: Aquarebia\, Qiddiya\\nDetails: https://happening-saudi.pages.dev/events/bc934741-fff0-4f42-a95c-dabc4c36337b
URL:https://happening-saudi.pages.dev/events/bc934741-fff0-4f42-a95c-dabc4c36337b
END:VEVENT
END:VCALENDAR