BEGIN:VCALENDAR
VERSION:2.0
PRODID:-//Now in Saudi//events//EN
CALSCALE:GREGORIAN
METHOD:PUBLISH
BEGIN:VEVENT
UID:b4b92986-31fd-4d3d-98ac-2c941a7958dd@nowinsaudi.com
DTSTAMP:20260419T174705Z
DTSTART:20260113T210000Z
DTEND:20260516T205959Z
SUMMARY:Of the Earth: Earthly Technologies to Computational Biologies
LOCATION:Diriyah Art Futures
DESCRIPTION:Of the Earth: Earthly Technologies to Computational Biologies\\nVenue: Diriyah Art Futures\\nDetails: https://happening-saudi.pages.dev/events/b4b92986-31fd-4d3d-98ac-2c941a7958dd
URL:https://happening-saudi.pages.dev/events/b4b92986-31fd-4d3d-98ac-2c941a7958dd
END:VEVENT
END:VCALENDAR