BEGIN:VCALENDAR
VERSION:2.0
PRODID:-//Now in Saudi//events//EN
CALSCALE:GREGORIAN
METHOD:PUBLISH
BEGIN:VEVENT
UID:aae87c5f-e494-499c-a781-9fe0cf4f650c@nowinsaudi.com
DTSTAMP:20260419T174507Z
DTSTART:20260420T160000Z
DTEND:20260420T200000Z
SUMMARY:Polaroid Emulsion Lifts Workshop with Yasmina Hilal
LOCATION:JAX District\, Diriyah
DESCRIPTION:Polaroid Emulsion Lifts Workshop with Yasmina Hilal\\nVenue: JAX District\, Diriyah\\nDetails: https://happening-saudi.pages.dev/events/aae87c5f-e494-499c-a781-9fe0cf4f650c
URL:https://happening-saudi.pages.dev/events/aae87c5f-e494-499c-a781-9fe0cf4f650c
END:VEVENT
END:VCALENDAR