BEGIN:VCALENDAR
VERSION:2.0
PRODID:-//Now in Saudi//events//EN
CALSCALE:GREGORIAN
METHOD:PUBLISH
BEGIN:VEVENT
UID:a432e278-5c4c-4bb1-b9f8-53d9ad9fe7f6@nowinsaudi.com
DTSTAMP:20260419T174828Z
DTSTART:20260502T180000Z
DTEND:20260502T210000Z
SUMMARY:Open Mic Night
LOCATION:The Warehouse
DESCRIPTION:Open Mic Night\\nVenue: The Warehouse\\nDetails: https://happening-saudi.pages.dev/events/a432e278-5c4c-4bb1-b9f8-53d9ad9fe7f6
URL:https://happening-saudi.pages.dev/events/a432e278-5c4c-4bb1-b9f8-53d9ad9fe7f6
END:VEVENT
END:VCALENDAR