BEGIN:VCALENDAR
VERSION:2.0
PRODID:-//Now in Saudi//events//EN
CALSCALE:GREGORIAN
METHOD:PUBLISH
BEGIN:VEVENT
UID:a36ec8ae-93f0-46fe-9ecd-69c5bfeb492d@nowinsaudi.com
DTSTAMP:20260420T004549Z
DTSTART:20260506T210000Z
DTEND:20260506T210000Z
SUMMARY:Riyadh Chamber Music Series - Opening Concert: The Journey السفرة
LOCATION:The Warehouse
DESCRIPTION:Riyadh Chamber Music Series - Opening Concert: The Journey السفرة\\nVenue: The Warehouse\\nDetails: https://happening-saudi.pages.dev/events/a36ec8ae-93f0-46fe-9ecd-69c5bfeb492d
URL:https://happening-saudi.pages.dev/events/a36ec8ae-93f0-46fe-9ecd-69c5bfeb492d
END:VEVENT
END:VCALENDAR