BEGIN:VCALENDAR
VERSION:2.0
PRODID:-//Now in Saudi//events//EN
CALSCALE:GREGORIAN
METHOD:PUBLISH
BEGIN:VEVENT
UID:a35c22d2-3c6d-4123-8d0b-34f8cc0c46ab@nowinsaudi.com
DTSTAMP:20260419T174712Z
DTSTART:20260430T180000Z
DTEND:20260430T210000Z
SUMMARY:Musical Evening and Poetry Performance
LOCATION:The Warehouse
DESCRIPTION:Musical Evening and Poetry Performance\\nVenue: The Warehouse\\nDetails: https://happening-saudi.pages.dev/events/a35c22d2-3c6d-4123-8d0b-34f8cc0c46ab
URL:https://happening-saudi.pages.dev/events/a35c22d2-3c6d-4123-8d0b-34f8cc0c46ab
END:VEVENT
END:VCALENDAR