BEGIN:VCALENDAR
VERSION:2.0
PRODID:-//Now in Saudi//events//EN
CALSCALE:GREGORIAN
METHOD:PUBLISH
BEGIN:VEVENT
UID:97029055-2bb7-4d47-b799-412a26491b3a@nowinsaudi.com
DTSTAMP:20260419T174718Z
DTSTART:20260506T010000Z
DTEND:20260801T190000Z
SUMMARY:Prince Faisal bin Fahd Arts Hall Exhibition: Summer 2026
LOCATION:Prince Faisal bin Fahd Arts Hall
DESCRIPTION:Prince Faisal bin Fahd Arts Hall Exhibition: Summer 2026\\nVenue: Prince Faisal bin Fahd Arts Hall\\nDetails: https://happening-saudi.pages.dev/events/97029055-2bb7-4d47-b799-412a26491b3a
URL:https://happening-saudi.pages.dev/events/97029055-2bb7-4d47-b799-412a26491b3a
END:VEVENT
END:VCALENDAR