BEGIN:VCALENDAR
VERSION:2.0
PRODID:-//Now in Saudi//events//EN
CALSCALE:GREGORIAN
METHOD:PUBLISH
BEGIN:VEVENT
UID:96eee88b-87da-4c97-9e8e-0950477d38c2@nowinsaudi.com
DTSTAMP:20260419T174544Z
DTSTART:20260505T210000Z
DTEND:20260506T205959Z
SUMMARY:Meet Saudi Novelist Mohammed AlModhayan - KaiKa's Songs Book Discussion
DESCRIPTION:Meet Saudi Novelist Mohammed AlModhayan - KaiKa's Songs Book Discussion\\nDetails: https://happening-saudi.pages.dev/events/96eee88b-87da-4c97-9e8e-0950477d38c2
URL:https://happening-saudi.pages.dev/events/96eee88b-87da-4c97-9e8e-0950477d38c2
END:VEVENT
END:VCALENDAR