BEGIN:VCALENDAR
VERSION:2.0
PRODID:-//Now in Saudi//events//EN
CALSCALE:GREGORIAN
METHOD:PUBLISH
BEGIN:VEVENT
UID:949c92e6-f960-4ca2-91f7-f152ecbe9e5a@nowinsaudi.com
DTSTAMP:20260419T175305Z
DTSTART:20260505T160000Z
DTEND:20260505T190000Z
SUMMARY:The Myth of Normal - Book Discussion Circle
LOCATION:مركز جدة للمبادرات JHUB
DESCRIPTION:The Myth of Normal - Book Discussion Circle\\nVenue: مركز جدة للمبادرات JHUB\\nDetails: https://happening-saudi.pages.dev/events/949c92e6-f960-4ca2-91f7-f152ecbe9e5a
URL:https://happening-saudi.pages.dev/events/949c92e6-f960-4ca2-91f7-f152ecbe9e5a
END:VEVENT
END:VCALENDAR