BEGIN:VCALENDAR
VERSION:2.0
PRODID:-//Now in Saudi//events//EN
CALSCALE:GREGORIAN
METHOD:PUBLISH
BEGIN:VEVENT
UID:93b054a8-cc2f-462f-a9d0-b11929f947e9@nowinsaudi.com
DTSTAMP:20260419T174719Z
DTSTART:20260428T180000Z
DTEND:20260428T210000Z
SUMMARY:Al Lamma Night
LOCATION:The Warehouse
DESCRIPTION:Al Lamma Night\\nVenue: The Warehouse\\nDetails: https://happening-saudi.pages.dev/events/93b054a8-cc2f-462f-a9d0-b11929f947e9
URL:https://happening-saudi.pages.dev/events/93b054a8-cc2f-462f-a9d0-b11929f947e9
END:VEVENT
END:VCALENDAR