BEGIN:VCALENDAR
VERSION:2.0
PRODID:-//Now in Saudi//events//EN
CALSCALE:GREGORIAN
METHOD:PUBLISH
BEGIN:VEVENT
UID:92ebd8fe-8a48-4f4f-b56c-acfcde9ea391@nowinsaudi.com
DTSTAMP:20260419T174402Z
DTSTART:20260423T160000Z
DTEND:20260423T205959Z
SUMMARY:Qublie Evenings
LOCATION:مساحة جيم
DESCRIPTION:Qublie Evenings\\nVenue: مساحة جيم\\nDetails: https://happening-saudi.pages.dev/events/92ebd8fe-8a48-4f4f-b56c-acfcde9ea391
URL:https://happening-saudi.pages.dev/events/92ebd8fe-8a48-4f4f-b56c-acfcde9ea391
END:VEVENT
END:VCALENDAR