BEGIN:VCALENDAR
VERSION:2.0
PRODID:-//Now in Saudi//events//EN
CALSCALE:GREGORIAN
METHOD:PUBLISH
BEGIN:VEVENT
UID:8ec0bbb6-fa5e-4ead-aa0d-ef364edf1ed6@nowinsaudi.com
DTSTAMP:20260419T174402Z
DTSTART:20260424T210000Z
DTEND:20260425T205959Z
SUMMARY:Saad Al Oud - A Gathering of Art and Laughter
LOCATION:مسرح المسرح – ملاهي الشلال، جدة
DESCRIPTION:Saad Al Oud - A Gathering of Art and Laughter\\nVenue: مسرح المسرح – ملاهي الشلال، جدة\\nDetails: https://happening-saudi.pages.dev/events/8ec0bbb6-fa5e-4ead-aa0d-ef364edf1ed6
URL:https://happening-saudi.pages.dev/events/8ec0bbb6-fa5e-4ead-aa0d-ef364edf1ed6
END:VEVENT
END:VCALENDAR