BEGIN:VCALENDAR
VERSION:2.0
PRODID:-//Now in Saudi//events//EN
CALSCALE:GREGORIAN
METHOD:PUBLISH
BEGIN:VEVENT
UID:8bb57d44-0513-43fb-89f3-e656227f61c2@nowinsaudi.com
DTSTAMP:20260419T174447Z
DTSTART:20260410T210000Z
DTEND:20260530T205959Z
SUMMARY:Junior by Beast House - Weekly Children's Program
LOCATION:Beast House
DESCRIPTION:Junior by Beast House - Weekly Children's Program\\nVenue: Beast House\\nDetails: https://happening-saudi.pages.dev/events/8bb57d44-0513-43fb-89f3-e656227f61c2
URL:https://happening-saudi.pages.dev/events/8bb57d44-0513-43fb-89f3-e656227f61c2
END:VEVENT
END:VCALENDAR