BEGIN:VCALENDAR
VERSION:2.0
PRODID:-//Now in Saudi//events//EN
CALSCALE:GREGORIAN
METHOD:PUBLISH
BEGIN:VEVENT
UID:82d9cd67-6cce-4579-9db9-6979b167282d@nowinsaudi.com
DTSTAMP:20260419T174705Z
DTSTART:20260620T210000Z
DTEND:20260922T205959Z
SUMMARY:Prince Faisal bin Fahd Arts Hall Exhibition: Summer 2026
LOCATION:Prince Faisal bin Fahd Arts Hall
DESCRIPTION:Prince Faisal bin Fahd Arts Hall Exhibition: Summer 2026\\nVenue: Prince Faisal bin Fahd Arts Hall\\nDetails: https://happening-saudi.pages.dev/events/82d9cd67-6cce-4579-9db9-6979b167282d
URL:https://happening-saudi.pages.dev/events/82d9cd67-6cce-4579-9db9-6979b167282d
END:VEVENT
END:VCALENDAR