BEGIN:VCALENDAR
VERSION:2.0
PRODID:-//Now in Saudi//events//EN
CALSCALE:GREGORIAN
METHOD:PUBLISH
BEGIN:VEVENT
UID:798d576f-de57-44c8-b574-75d1e6b1854e@nowinsaudi.com
DTSTAMP:20260419T174446Z
DTSTART:20251231T210000Z
DTEND:20260430T205959Z
SUMMARY:Diriyah Contemporary Art Biennale 2026 (Third Edition)
LOCATION:JAX District\, Diriyah
DESCRIPTION:Diriyah Contemporary Art Biennale 2026 (Third Edition)\\nVenue: JAX District\, Diriyah\\nDetails: https://happening-saudi.pages.dev/events/798d576f-de57-44c8-b574-75d1e6b1854e
URL:https://happening-saudi.pages.dev/events/798d576f-de57-44c8-b574-75d1e6b1854e
END:VEVENT
END:VCALENDAR