BEGIN:VCALENDAR
VERSION:2.0
PRODID:-//Now in Saudi//events//EN
CALSCALE:GREGORIAN
METHOD:PUBLISH
BEGIN:VEVENT
UID:6a2b143c-37de-4ab1-a5ad-8c2c0be87858@nowinsaudi.com
DTSTAMP:20260419T174718Z
DTSTART:20260421T210000Z
DTEND:20260425T205959Z
SUMMARY:Timekeepers: The Archive in Flux
DESCRIPTION:Timekeepers: The Archive in Flux\\nDetails: https://happening-saudi.pages.dev/events/6a2b143c-37de-4ab1-a5ad-8c2c0be87858
URL:https://happening-saudi.pages.dev/events/6a2b143c-37de-4ab1-a5ad-8c2c0be87858
END:VEVENT
END:VCALENDAR