BEGIN:VCALENDAR
VERSION:2.0
PRODID:-//Now in Saudi//events//EN
CALSCALE:GREGORIAN
METHOD:PUBLISH
BEGIN:VEVENT
UID:68c48e00-c6ae-4a59-a73b-9968ce53f91f@nowinsaudi.com
DTSTAMP:20260419T174522Z
DTSTART:20260410T210000Z
DTEND:20260530T205959Z
SUMMARY:Beast House Juniors x Spears Arts - Weekly Performing Arts Program
LOCATION:Beast House
DESCRIPTION:Beast House Juniors x Spears Arts - Weekly Performing Arts Program\\nVenue: Beast House\\nDetails: https://happening-saudi.pages.dev/events/68c48e00-c6ae-4a59-a73b-9968ce53f91f
URL:https://happening-saudi.pages.dev/events/68c48e00-c6ae-4a59-a73b-9968ce53f91f
END:VEVENT
END:VCALENDAR