BEGIN:VCALENDAR
VERSION:2.0
PRODID:-//Now in Saudi//events//EN
CALSCALE:GREGORIAN
METHOD:PUBLISH
BEGIN:VEVENT
UID:616dda99-7ff3-4fdc-8268-2fe0c3f72250@nowinsaudi.com
DTSTAMP:20260420T135615Z
DTSTART:20260506T210000Z
DTEND:20260506T230000Z
SUMMARY:Disco Misr Album Launch Concert
LOCATION:Blot Key\, Jax District
DESCRIPTION:Disco Misr Album Launch Concert\\nVenue: Blot Key\, Jax District\\nDetails: https://happening-saudi.pages.dev/events/616dda99-7ff3-4fdc-8268-2fe0c3f72250
URL:https://happening-saudi.pages.dev/events/616dda99-7ff3-4fdc-8268-2fe0c3f72250
END:VEVENT
END:VCALENDAR