BEGIN:VCALENDAR
VERSION:2.0
PRODID:-//Now in Saudi//events//EN
CALSCALE:GREGORIAN
METHOD:PUBLISH
BEGIN:VEVENT
UID:5bc6ba13-664f-4ff5-88ca-c6ba16238e8b@nowinsaudi.com
DTSTAMP:20260419T174544Z
DTSTART:20260420T130000Z
DTEND:20260420T140000Z
SUMMARY:Samri: The Body as Bearer of Heritage
LOCATION:Sard Cultural Center
DESCRIPTION:Samri: The Body as Bearer of Heritage\\nVenue: Sard Cultural Center\\nDetails: https://happening-saudi.pages.dev/events/5bc6ba13-664f-4ff5-88ca-c6ba16238e8b
URL:https://happening-saudi.pages.dev/events/5bc6ba13-664f-4ff5-88ca-c6ba16238e8b
END:VEVENT
END:VCALENDAR