BEGIN:VCALENDAR
VERSION:2.0
PRODID:-//Now in Saudi//events//EN
CALSCALE:GREGORIAN
METHOD:PUBLISH
BEGIN:VEVENT
UID:57cc275e-e762-4610-995f-26f5053ee9e7@nowinsaudi.com
DTSTAMP:20260419T174507Z
DTSTART:20260722T210000Z
DTEND:20260823T205959Z
SUMMARY:Esports World Cup 2026
LOCATION:VIA Riyadh
DESCRIPTION:Esports World Cup 2026\\nVenue: VIA Riyadh\\nTickets: https://www.platinumlist.app\\nDetails: https://happening-saudi.pages.dev/events/57cc275e-e762-4610-995f-26f5053ee9e7
URL:https://happening-saudi.pages.dev/events/57cc275e-e762-4610-995f-26f5053ee9e7
END:VEVENT
END:VCALENDAR