BEGIN:VCALENDAR
VERSION:2.0
PRODID:-//Now in Saudi//events//EN
CALSCALE:GREGORIAN
METHOD:PUBLISH
BEGIN:VEVENT
UID:4fae97c5-d566-48f5-b42b-a66734ea6f1b@nowinsaudi.com
DTSTAMP:20260419T174718Z
DTSTART:20260425T080000Z
DTEND:20260425T093000Z
SUMMARY:Mind Jam: Social Talk Series with Mohammad Ameenudin
LOCATION:Al Jalees
DESCRIPTION:Mind Jam: Social Talk Series with Mohammad Ameenudin\\nVenue: Al Jalees\\nTickets: https://instagram.com/al_jalees\\nDetails: https://happening-saudi.pages.dev/events/4fae97c5-d566-48f5-b42b-a66734ea6f1b
URL:https://happening-saudi.pages.dev/events/4fae97c5-d566-48f5-b42b-a66734ea6f1b
END:VEVENT
END:VCALENDAR