BEGIN:VCALENDAR
VERSION:2.0
PRODID:-//Now in Saudi//events//EN
CALSCALE:GREGORIAN
METHOD:PUBLISH
BEGIN:VEVENT
UID:47953695-4ae6-4094-8962-7a1502e1ab13@nowinsaudi.com
DTSTAMP:20260419T174910Z
DTSTART:20260330T130000Z
DTEND:20260429T205959Z
SUMMARY:Ramadan Tent at Four Seasons Hotel Riyadh at Kingdom Centre
LOCATION:Four Seasons Hotel Riyadh at Kingdom Centre
DESCRIPTION:Ramadan Tent at Four Seasons Hotel Riyadh at Kingdom Centre\\nVenue: Four Seasons Hotel Riyadh at Kingdom Centre\\nDetails: https://happening-saudi.pages.dev/events/47953695-4ae6-4094-8962-7a1502e1ab13
URL:https://happening-saudi.pages.dev/events/47953695-4ae6-4094-8962-7a1502e1ab13
END:VEVENT
END:VCALENDAR