BEGIN:VCALENDAR
VERSION:2.0
PRODID:-//Now in Saudi//events//EN
CALSCALE:GREGORIAN
METHOD:PUBLISH
BEGIN:VEVENT
UID:4732e489-d13c-483c-8f65-f68afacd2e51@nowinsaudi.com
DTSTAMP:20260419T175119Z
DTSTART:20260422T160000Z
DTEND:20260422T173000Z
SUMMARY:INK & INSIGHT: Write your way inward
LOCATION:R House
DESCRIPTION:INK & INSIGHT: Write your way inward\\nVenue: R House\\nTickets: https://www.instagram.com/rhouse.sa\\nDetails: https://happening-saudi.pages.dev/events/4732e489-d13c-483c-8f65-f68afacd2e51
URL:https://happening-saudi.pages.dev/events/4732e489-d13c-483c-8f65-f68afacd2e51
END:VEVENT
END:VCALENDAR