BEGIN:VCALENDAR
VERSION:2.0
PRODID:-//Now in Saudi//events//EN
CALSCALE:GREGORIAN
METHOD:PUBLISH
BEGIN:VEVENT
UID:443549ed-0d76-408a-a88b-89e6e3eea4a9@nowinsaudi.com
DTSTAMP:20260419T174829Z
DTSTART:20260507T210000Z
DTEND:20260508T205959Z
SUMMARY:IN ACT - ACT VIII
LOCATION:JAX District\, Diriyah
DESCRIPTION:IN ACT - ACT VIII\\nVenue: JAX District\, Diriyah\\nTickets: https://www.platinumlist.net\\nDetails: https://happening-saudi.pages.dev/events/443549ed-0d76-408a-a88b-89e6e3eea4a9
URL:https://happening-saudi.pages.dev/events/443549ed-0d76-408a-a88b-89e6e3eea4a9
END:VEVENT
END:VCALENDAR