BEGIN:VCALENDAR
VERSION:2.0
PRODID:-//Now in Saudi//events//EN
CALSCALE:GREGORIAN
METHOD:PUBLISH
BEGIN:VEVENT
UID:3b2c395c-1d60-4417-b837-caeec3596893@nowinsaudi.com
DTSTAMP:20260419T174829Z
DTSTART:20260415T210000Z
DTEND:20260420T205959Z
SUMMARY:Crime at the Hotel of Happiness
LOCATION:Boulevard City
DESCRIPTION:Crime at the Hotel of Happiness\\nVenue: Boulevard City\\nTickets: https://webook.com/en/events/crime-at-al-saada-hotel\\nDetails: https://happening-saudi.pages.dev/events/3b2c395c-1d60-4417-b837-caeec3596893
URL:https://happening-saudi.pages.dev/events/3b2c395c-1d60-4417-b837-caeec3596893
END:VEVENT
END:VCALENDAR