BEGIN:VCALENDAR
VERSION:2.0
PRODID:-//Now in Saudi//events//EN
CALSCALE:GREGORIAN
METHOD:PUBLISH
BEGIN:VEVENT
UID:380b5146-b199-45bd-9b2d-f2fddbb0910b@nowinsaudi.com
DTSTAMP:20260419T174712Z
DTSTART:20260424T170000Z
DTEND:20260424T205959Z
SUMMARY:RnB Music Night
LOCATION:The Warehouse
DESCRIPTION:RnB Music Night\\nVenue: The Warehouse\\nDetails: https://happening-saudi.pages.dev/events/380b5146-b199-45bd-9b2d-f2fddbb0910b
URL:https://happening-saudi.pages.dev/events/380b5146-b199-45bd-9b2d-f2fddbb0910b
END:VEVENT
END:VCALENDAR