BEGIN:VCALENDAR
VERSION:2.0
PRODID:-//Now in Saudi//events//EN
CALSCALE:GREGORIAN
METHOD:PUBLISH
BEGIN:VEVENT
UID:37df97e1-7300-4c53-848c-946fde8b1240@nowinsaudi.com
DTSTAMP:20260419T174950Z
DTSTART:20260501T180000Z
DTEND:20260501T210000Z
SUMMARY:Fairouz Night with Iliana Yasmin - Live Musical Performance
LOCATION:The Warehouse
DESCRIPTION:Fairouz Night with Iliana Yasmin - Live Musical Performance\\nVenue: The Warehouse\\nDetails: https://happening-saudi.pages.dev/events/37df97e1-7300-4c53-848c-946fde8b1240
URL:https://happening-saudi.pages.dev/events/37df97e1-7300-4c53-848c-946fde8b1240
END:VEVENT
END:VCALENDAR