BEGIN:VCALENDAR
VERSION:2.0
PRODID:-//Now in Saudi//events//EN
CALSCALE:GREGORIAN
METHOD:PUBLISH
BEGIN:VEVENT
UID:355c4f02-858f-41e9-b62c-57da265a1933@nowinsaudi.com
DTSTAMP:20260419T174614Z
DTSTART:20260425T180000Z
DTEND:20260425T210000Z
SUMMARY:Mawwal and Sea: A Yanbu Art Experience
LOCATION:The Warehouse
DESCRIPTION:Mawwal and Sea: A Yanbu Art Experience\\nVenue: The Warehouse\\nDetails: https://happening-saudi.pages.dev/events/355c4f02-858f-41e9-b62c-57da265a1933
URL:https://happening-saudi.pages.dev/events/355c4f02-858f-41e9-b62c-57da265a1933
END:VEVENT
END:VCALENDAR