BEGIN:VCALENDAR
VERSION:2.0
PRODID:-//Now in Saudi//events//EN
CALSCALE:GREGORIAN
METHOD:PUBLISH
BEGIN:VEVENT
UID:349e571a-2daa-4adb-83b1-4bece159644a@nowinsaudi.com
DTSTAMP:20260419T174507Z
DTSTART:20260416T130000Z
DTEND:20260616T205959Z
SUMMARY:Boulevard Flowers at Riyadh Season
LOCATION:Boulevard Flowers
DESCRIPTION:Boulevard Flowers at Riyadh Season\\nVenue: Boulevard Flowers\\nDetails: https://happening-saudi.pages.dev/events/349e571a-2daa-4adb-83b1-4bece159644a
URL:https://happening-saudi.pages.dev/events/349e571a-2daa-4adb-83b1-4bece159644a
END:VEVENT
END:VCALENDAR