BEGIN:VCALENDAR
VERSION:2.0
PRODID:-//Now in Saudi//events//EN
CALSCALE:GREGORIAN
METHOD:PUBLISH
BEGIN:VEVENT
UID:2d11b32e-2136-497a-9723-b71c9d7b666b@nowinsaudi.com
DTSTAMP:20260419T174544Z
DTSTART:20260325T210000Z
DTEND:20260502T205959Z
SUMMARY:Diriyah Biennale 2026: In Interludes and Transitions
LOCATION:JAX District in Diriyah
DESCRIPTION:Diriyah Biennale 2026: In Interludes and Transitions\\nVenue: JAX District in Diriyah\\nDetails: https://happening-saudi.pages.dev/events/2d11b32e-2136-497a-9723-b71c9d7b666b
URL:https://happening-saudi.pages.dev/events/2d11b32e-2136-497a-9723-b71c9d7b666b
END:VEVENT
END:VCALENDAR