BEGIN:VCALENDAR
VERSION:2.0
PRODID:-//Now in Saudi//events//EN
CALSCALE:GREGORIAN
METHOD:PUBLISH
BEGIN:VEVENT
UID:20ed821c-0fc8-4c68-82df-c2bd8803ff35@nowinsaudi.com
DTSTAMP:20260419T174522Z
DTSTART:20260419T160000Z
DTEND:20260419T173000Z
SUMMARY:Traditional and Improvised Al-Samri Workshop
LOCATION:Sard Cultural Center
DESCRIPTION:Traditional and Improvised Al-Samri Workshop\\nVenue: Sard Cultural Center\\nDetails: https://happening-saudi.pages.dev/events/20ed821c-0fc8-4c68-82df-c2bd8803ff35
URL:https://happening-saudi.pages.dev/events/20ed821c-0fc8-4c68-82df-c2bd8803ff35
END:VEVENT
END:VCALENDAR