BEGIN:VCALENDAR
VERSION:2.0
PRODID:-//Now in Saudi//events//EN
CALSCALE:GREGORIAN
METHOD:PUBLISH
BEGIN:VEVENT
UID:1fbc84a0-b8b6-4f3a-8124-d5da85e06dc3@nowinsaudi.com
DTSTAMP:20260419T174508Z
DTSTART:20260425T070000Z
DTEND:20260425T083000Z
SUMMARY:Ember Speaker Series: Khaled AlKhaldi
LOCATION:Vibes Offices\, Al-Takhasusi
DESCRIPTION:Ember Speaker Series: Khaled AlKhaldi\\nVenue: Vibes Offices\, Al-Takhasusi\\nDetails: https://happening-saudi.pages.dev/events/1fbc84a0-b8b6-4f3a-8124-d5da85e06dc3
URL:https://happening-saudi.pages.dev/events/1fbc84a0-b8b6-4f3a-8124-d5da85e06dc3
END:VEVENT
END:VCALENDAR