BEGIN:VCALENDAR
VERSION:2.0
PRODID:-//Now in Saudi//events//EN
CALSCALE:GREGORIAN
METHOD:PUBLISH
BEGIN:VEVENT
UID:1e9e6bc0-23a1-4952-aaa1-22adeea8f1ab@nowinsaudi.com
DTSTAMP:20260419T174546Z
DTSTART:20260422T210000Z
DTEND:20260422T230000Z
SUMMARY:Aquarabia Water Theme Park Opening
LOCATION:Aquarabia\, Qiddiya City
DESCRIPTION:Aquarabia Water Theme Park Opening\\nVenue: Aquarabia\, Qiddiya City\\nDetails: https://happening-saudi.pages.dev/events/1e9e6bc0-23a1-4952-aaa1-22adeea8f1ab
URL:https://happening-saudi.pages.dev/events/1e9e6bc0-23a1-4952-aaa1-22adeea8f1ab
END:VEVENT
END:VCALENDAR