BEGIN:VCALENDAR
VERSION:2.0
PRODID:-//Now in Saudi//events//EN
CALSCALE:GREGORIAN
METHOD:PUBLISH
BEGIN:VEVENT
UID:1df1000b-299b-449d-8ff3-0a88ffc8934a@nowinsaudi.com
DTSTAMP:20260419T174951Z
DTSTART:20260420T180000Z
DTEND:20260420T193000Z
SUMMARY:Traditional and Improvisational Samri Workshop
LOCATION:Sard Cultural Center
DESCRIPTION:Traditional and Improvisational Samri Workshop\\nVenue: Sard Cultural Center\\nDetails: https://happening-saudi.pages.dev/events/1df1000b-299b-449d-8ff3-0a88ffc8934a
URL:https://happening-saudi.pages.dev/events/1df1000b-299b-449d-8ff3-0a88ffc8934a
END:VEVENT
END:VCALENDAR