BEGIN:VCALENDAR
VERSION:2.0
PRODID:-//Now in Saudi//events//EN
CALSCALE:GREGORIAN
METHOD:PUBLISH
BEGIN:VEVENT
UID:089d7576-8c25-413a-9dd8-e26f679e4192@nowinsaudi.com
DTSTAMP:20260419T174402Z
DTSTART:20260420T160000Z
DTEND:20260420T173000Z
SUMMARY:Traditional and Improvised Al-Samri Workshop
LOCATION:Sard Cultural Center
DESCRIPTION:Traditional and Improvised Al-Samri Workshop\\nVenue: Sard Cultural Center\\nDetails: https://happening-saudi.pages.dev/events/089d7576-8c25-413a-9dd8-e26f679e4192
URL:https://happening-saudi.pages.dev/events/089d7576-8c25-413a-9dd8-e26f679e4192
END:VEVENT
END:VCALENDAR