BEGIN:VCALENDAR
VERSION:2.0
PRODID:-//Now in Saudi//events//EN
CALSCALE:GREGORIAN
METHOD:PUBLISH
BEGIN:VEVENT
UID:042a5c16-ca7b-483b-9238-0f6cc1ec8aa4@nowinsaudi.com
DTSTAMP:20260419T174614Z
DTSTART:20260419T180000Z
DTEND:20260419T193000Z
SUMMARY:Traditional and Improvisational Samri Workshop
LOCATION:Sard Cultural Center
DESCRIPTION:Traditional and Improvisational Samri Workshop\\nVenue: Sard Cultural Center\\nDetails: https://happening-saudi.pages.dev/events/042a5c16-ca7b-483b-9238-0f6cc1ec8aa4
URL:https://happening-saudi.pages.dev/events/042a5c16-ca7b-483b-9238-0f6cc1ec8aa4
END:VEVENT
END:VCALENDAR